BEGIN:VCALENDAR
VERSION:2.0
PRODID:-//3qinnovation.org//NONSGML kigkonsult.se iCalcreator 2.30.10//
CALSCALE:GREGORIAN
METHOD:PUBLISH
UID:a53d93df-7a76-4458-bd93-6f937721bb44
X-WR-CALDESC:The U.S. Department of Energy's Better Buildings\, Better Plan
 ts Summit will be April 11-13\, 2023 at the Capital Hilton in Washington\,
  D.C. Plan to attend for engaging and interactive sessions\, as well as op
 portunities to network with fellow industry peers and experts.
X-WR-RELCALID:b08b4caa2ab288c66a44d88728b6880a
X-WR-TIMEZONE:America/New_York
BEGIN:VTIMEZONE
TZID:America/New_York
BEGIN:STANDARD
TZNAME:EST
DTSTART:20221106T020000
TZOFFSETFROM:-0400
TZOFFSETTO:-0500
RDATE:20231105T020000
END:STANDARD
BEGIN:DAYLIGHT
TZNAME:EDT
DTSTART:20230312T020000
TZOFFSETFROM:-0500
TZOFFSETTO:-0400
RDATE:20240310T020000
END:DAYLIGHT
END:VTIMEZONE
BEGIN:VEVENT
UID:e84511d9-afe6-4e74-9612-b4cb7d0cdf26
DTSTAMP:20260423T182743Z
DESCRIPTION:The U.S. Department of Energy's Better Buildings\, Better Plant
 s Summit will be April 11-13\, 2023 at the Capital Hilton in Washington\, 
 D.C. Plan to attend for engaging and interactive sessions\, as well as opp
 ortunities to network with fellow industry peers and experts.
DTSTART;TZID=America/New_York:20230411T130000
DTEND;TZID=America/New_York:20230411T180000
LOCATION:Washington\, DC
SUMMARY:Better Buildings\, Better Plants Summit
END:VEVENT
END:VCALENDAR
