BEGIN:VCALENDAR
VERSION:2.0
PRODID:-//3qinnovation.org//NONSGML kigkonsult.se iCalcreator 2.30.10//
CALSCALE:GREGORIAN
METHOD:PUBLISH
UID:96d76f9c-d502-4207-a8f8-5c607896b96d
X-WR-CALDESC:Get informed about New York City's climate legislation and its
  impact on buildings. This Climate Mobilization Act Primer is a one-hour s
 eminar examining the basic principles of NYC's Climate Mobilization Act th
 at also offers actionable guidance for building decision makers.
X-WR-RELCALID:04502d1b629c3ecea264aaba0b749ad7
X-WR-TIMEZONE:America/New_York
BEGIN:VTIMEZONE
TZID:America/New_York
BEGIN:STANDARD
TZNAME:EST
DTSTART:20221106T020000
TZOFFSETFROM:-0400
TZOFFSETTO:-0500
RDATE:20231105T020000
END:STANDARD
BEGIN:DAYLIGHT
TZNAME:EDT
DTSTART:20230312T020000
TZOFFSETFROM:-0500
TZOFFSETTO:-0400
RDATE:20240310T020000
END:DAYLIGHT
END:VTIMEZONE
BEGIN:VEVENT
UID:396c4037-5970-42f4-8441-9ac51da58b5a
DTSTAMP:20260423T200327Z
DESCRIPTION:Get informed about New York City's climate legislation and its 
 impact on buildings. This Climate Mobilization Act Primer is a one-hour se
 minar examining the basic principles of NYC's Climate Mobilization Act tha
 t also offers actionable guidance for building decision makers.
DTSTART;TZID=America/New_York:20230328T130000
DTEND;TZID=America/New_York:20230328T140000
LOCATION:
SUMMARY:Climate Mobilization Act Primer
END:VEVENT
END:VCALENDAR
