BEGIN:VCALENDAR
VERSION:2.0
PRODID:-//3qinnovation.org//NONSGML kigkonsult.se iCalcreator 2.30.10//
CALSCALE:GREGORIAN
METHOD:PUBLISH
UID:a88d3d31-60f3-40f9-9f1d-73ab02ddce5e
X-WR-CALDESC:BuildingEnergy Boston is a conference designed by and for prac
 titioners in the fields of high-performance building and design\, energy e
 fficiency\, and renewable energy.  It brings more than 1\,000 industry lea
 ders and emerging professionals together to learn from and share ideas wit
 h each other. \n\nThe BuildingEnergy Boston 2023 Conference theme is 'Scal
 able Solutions' - and will take place as an in-person conference at the We
 stin Boston Seaport District March 27th-29th. \n\nAs the need for more bui
 ldings collides with the growing climate crisis\, now is the time for prac
 tical\, scalable building design and construction solutions that meet the 
 needs of both the planet and the people who live here.  To meet this chall
 enge\, we need to reach beyond the relatively small network of early adopt
 ers and climate activists\, improving how we communicate our ideas\, devel
 oping solutions that work on a large scale\, and building a workforce of i
 nformed and willing practitioners.
X-WR-RELCALID:3d08a119a31ea6236a0b19b06bae565e
X-WR-TIMEZONE:America/New_York
BEGIN:VTIMEZONE
TZID:America/New_York
BEGIN:STANDARD
TZNAME:EST
DTSTART:20221106T020000
TZOFFSETFROM:-0400
TZOFFSETTO:-0500
RDATE:20231105T020000
END:STANDARD
BEGIN:DAYLIGHT
TZNAME:EDT
DTSTART:20230312T020000
TZOFFSETFROM:-0500
TZOFFSETTO:-0400
RDATE:20240310T020000
END:DAYLIGHT
END:VTIMEZONE
BEGIN:VEVENT
UID:642c9b7f-6133-4582-8047-91915014723e
DTSTAMP:20260423T200546Z
DESCRIPTION:BuildingEnergy Boston is a conference designed by and for pract
 itioners in the fields of high-performance building and design\, energy ef
 ficiency\, and renewable energy.  It brings more than 1\,000 industry lead
 ers and emerging professionals together to learn from and share ideas with
  each other. \n\nThe BuildingEnergy Boston 2023 Conference theme is 'Scala
 ble Solutions' - and will take place as an in-person conference at the Wes
 tin Boston Seaport District March 27th-29th. \n\nAs the need for more buil
 dings collides with the growing climate crisis\, now is the time for pract
 ical\, scalable building design and construction solutions that meet the n
 eeds of both the planet and the people who live here.  To meet this challe
 nge\, we need to reach beyond the relatively small network of early adopte
 rs and climate activists\, improving how we communicate our ideas\, develo
 ping solutions that work on a large scale\, and building a workforce of in
 formed and willing practitioners.
DTSTART;TZID=America/New_York:20230328T000000
DTEND;TZID=America/New_York:20230328T235900
LOCATION:Boston\, Massachusetts
SUMMARY:BuildingEnergy Boston | NESEA
END:VEVENT
END:VCALENDAR
