BEGIN:VCALENDAR
VERSION:2.0
PRODID:-//3qinnovation.org//NONSGML kigkonsult.se iCalcreator 2.30.10//
CALSCALE:GREGORIAN
METHOD:PUBLISH
UID:589c07c6-4895-4779-857d-1662aee93a2b
X-WR-CALDESC:Financing Energy Upgrades 101 is an Urban Green Council and NY
 C Accelerator presentation (panel format) that gives building owners and b
 uilt environment workers a solid overview of financing options for energy 
 upgrade projects.\n\nHear from NYC Accelerator’s Financing Specialist and 
 a panel of market lenders about navigating the landscape for financing ret
 rofits and renewable energy projects.  This panel will be breaking down th
 e barriers to financing energy upgrade projects using equipment loans and 
 ‘energy-as-a-service’ contracts.\n\n
X-WR-RELCALID:922722ad18c475ad4428732032b41efb
X-WR-TIMEZONE:America/New_York
BEGIN:VTIMEZONE
TZID:America/New_York
BEGIN:STANDARD
TZNAME:EST
DTSTART:20221106T020000
TZOFFSETFROM:-0400
TZOFFSETTO:-0500
RDATE:20231105T020000
END:STANDARD
BEGIN:DAYLIGHT
TZNAME:EDT
DTSTART:20230312T020000
TZOFFSETFROM:-0500
TZOFFSETTO:-0400
RDATE:20240310T020000
END:DAYLIGHT
END:VTIMEZONE
BEGIN:VEVENT
UID:55f6e0f4-dd7b-4944-8b19-bf77d88623af
DTSTAMP:20260423T200818Z
DESCRIPTION:Financing Energy Upgrades 101 is an Urban Green Council and NYC
  Accelerator presentation (panel format) that gives building owners and bu
 ilt environment workers a solid overview of financing options for energy u
 pgrade projects.\n\nHear from NYC Accelerator’s Financing Specialist and a
  panel of market lenders about navigating the landscape for financing retr
 ofits and renewable energy projects.  This panel will be breaking down the
  barriers to financing energy upgrade projects using equipment loans and ‘
 energy-as-a-service’ contracts.\n\n
DTSTART;TZID=America/New_York:20230323T130000
DTEND;TZID=America/New_York:20230323T143000
LOCATION:
SUMMARY:Financing Energy Upgrades 101-Part 2
END:VEVENT
END:VCALENDAR
