BEGIN:VCALENDAR
VERSION:2.0
PRODID:-//3qinnovation.org//NONSGML kigkonsult.se iCalcreator 2.30.10//
CALSCALE:GREGORIAN
METHOD:PUBLISH
UID:1df39b31-744c-40f4-9fd8-0849def39096
X-WR-CALDESC:New York Build (March 8-9\, 2023 Javits Center) is the largest
  construction\, design and real estate show for New York. Now in it’s seve
 nth year\, your ticket gives you access to 350+ expert speakers\, 300+ exh
 ibitors\, 25\,000+ attendees\, 12 conference tracks and AIA CES approved w
 orkshops\, networking parties\, entertainment\, live music\, and endless n
 etworking opportunities with leading architects\, developers\, housebuilde
 rs\, contractors\, government and more.\n\n
X-WR-RELCALID:02ba026ba16a3ab3dae3967f8b9c8629
X-WR-TIMEZONE:America/New_York
BEGIN:VTIMEZONE
TZID:America/New_York
BEGIN:STANDARD
TZNAME:EST
DTSTART:20221106T020000
TZOFFSETFROM:-0400
TZOFFSETTO:-0500
RDATE:20231105T020000
END:STANDARD
BEGIN:DAYLIGHT
TZNAME:EDT
DTSTART:20220313T020000
TZOFFSETFROM:-0500
TZOFFSETTO:-0400
RDATE:20230312T020000
RDATE:20240310T020000
END:DAYLIGHT
END:VTIMEZONE
BEGIN:VEVENT
UID:7aa1945e-2b12-4780-91a2-9c5cadab144d
DTSTAMP:20260423T200737Z
DESCRIPTION:New York Build (March 8-9\, 2023 Javits Center) is the largest 
 construction\, design and real estate show for New York. Now in it’s seven
 th year\, your ticket gives you access to 350+ expert speakers\, 300+ exhi
 bitors\, 25\,000+ attendees\, 12 conference tracks and AIA CES approved wo
 rkshops\, networking parties\, entertainment\, live music\, and endless ne
 tworking opportunities with leading architects\, developers\, housebuilder
 s\, contractors\, government and more.\n\n
DTSTART;TZID=America/New_York:20230309T000000
DTEND;TZID=America/New_York:20230309T235900
LOCATION:Javits Center
SUMMARY:New York Build 2023
END:VEVENT
END:VCALENDAR
