BEGIN:VCALENDAR
VERSION:2.0
PRODID:-//3qinnovation.org//NONSGML kigkonsult.se iCalcreator 2.30.10//
CALSCALE:GREGORIAN
METHOD:PUBLISH
UID:743be98c-c60e-4829-a2e2-517dc71c8106
X-WR-CALDESC:Crushing the Code NYS: Residential is an Urban Green Council o
 nline course that prepares building and design professionals in New York S
 tate to: 1) comply with the many requirements in the 2020 Energy Conservat
 ion Construction Code (ECCCNYS) and 2) by understanding ECCCNYS compliance
  requirements\, design more energy-efficient buildings.  \n\nIn an era of 
 more stringent code enforcement\, this course will also provide critical k
 nowledge about significant changes\, new provisions\, and best practices t
 hat will help professionals avoid ECCCNYS compliance-related objections/de
 lays that impact project timelines.
X-WR-RELCALID:0aa383f87d0c23c6f5e5af4a7f6e0919
X-WR-TIMEZONE:America/New_York
BEGIN:VTIMEZONE
TZID:America/New_York
BEGIN:STANDARD
TZNAME:EST
DTSTART:20221106T020000
TZOFFSETFROM:-0400
TZOFFSETTO:-0500
RDATE:20231105T020000
END:STANDARD
BEGIN:DAYLIGHT
TZNAME:EDT
DTSTART:20220313T020000
TZOFFSETFROM:-0500
TZOFFSETTO:-0400
RDATE:20230312T020000
RDATE:20240310T020000
END:DAYLIGHT
END:VTIMEZONE
BEGIN:VEVENT
UID:97b68ecb-f1d8-4996-b907-888555ad4721
DTSTAMP:20260423T200142Z
DESCRIPTION:Crushing the Code NYS: Residential is an Urban Green Council on
 line course that prepares building and design professionals in New York St
 ate to: 1) comply with the many requirements in the 2020 Energy Conservati
 on Construction Code (ECCCNYS) and 2) by understanding ECCCNYS compliance 
 requirements\, design more energy-efficient buildings.  \n\nIn an era of m
 ore stringent code enforcement\, this course will also provide critical kn
 owledge about significant changes\, new provisions\, and best practices th
 at will help professionals avoid ECCCNYS compliance-related objections/del
 ays that impact project timelines.
DTSTART;TZID=America/New_York:20230308T090000
DTEND;TZID=America/New_York:20230308T170000
LOCATION:
SUMMARY:Crushing the Code NY State: Residential
END:VEVENT
END:VCALENDAR
