BEGIN:VCALENDAR
VERSION:2.0
PRODID:-//3qinnovation.org//NONSGML kigkonsult.se iCalcreator 2.30.10//
CALSCALE:GREGORIAN
METHOD:PUBLISH
UID:4690e308-e289-4c39-ae92-baaaffc0df60
X-WR-CALDESC:Financing Energy Upgrades 101 is an Urban Green Council and NY
 C Accelerator presentation (panel format) that gives building owners and b
 uilt environment workers a solid overview of financing options for energy 
 upgrade projects.\n\nHear from NYC Accelerator’s Financing Specialist and 
 a panel of market lenders to untangle common misconceptions\, learn about 
 the products on the market\, and get actionable advice for identifying fin
 ancing opportunities.\n\n
X-WR-RELCALID:00533878567fe253562e6e50df79c957
X-WR-TIMEZONE:America/New_York
BEGIN:VTIMEZONE
TZID:America/New_York
BEGIN:STANDARD
TZNAME:EST
DTSTART:20221106T020000
TZOFFSETFROM:-0400
TZOFFSETTO:-0500
RDATE:20231105T020000
END:STANDARD
BEGIN:DAYLIGHT
TZNAME:EDT
DTSTART:20220313T020000
TZOFFSETFROM:-0500
TZOFFSETTO:-0400
RDATE:20230312T020000
RDATE:20240310T020000
END:DAYLIGHT
END:VTIMEZONE
BEGIN:VEVENT
UID:5eca59ab-621f-42ff-8894-2858ea01d26e
DTSTAMP:20260423T215025Z
DESCRIPTION:Financing Energy Upgrades 101 is an Urban Green Council and NYC
  Accelerator presentation (panel format) that gives building owners and bu
 ilt environment workers a solid overview of financing options for energy u
 pgrade projects.\n\nHear from NYC Accelerator’s Financing Specialist and a
  panel of market lenders to untangle common misconceptions\, learn about t
 he products on the market\, and get actionable advice for identifying fina
 ncing opportunities.\n\n
DTSTART;TZID=America/New_York:20230228T100000
DTEND;TZID=America/New_York:20230228T113000
LOCATION:
SUMMARY:Financing Energy Upgrades 101-Part 1
END:VEVENT
END:VCALENDAR
