BEGIN:VCALENDAR
VERSION:2.0
PRODID:-//3qinnovation.org//NONSGML kigkonsult.se iCalcreator 2.30.10//
CALSCALE:GREGORIAN
METHOD:PUBLISH
UID:6f2b7179-12d0-414c-a2ff-ce0891c3d994
X-WR-CALDESC:Crushing the Code NYS: Residential is an Urban Green Council o
 nline course that prepares building and design professionals in New York S
 tate to: 1) comply with the many requirements in the 2020 Energy Conservat
 ion Construction Code (ECCCNYS) and 2) by understanding ECCCNYS compliance
  requirements\, design more energy-efficient buildings.  \n\nIn an era of 
 more stringent code enforcement\, this course will also provide critical k
 nowledge about significant changes\, new provisions\, and best practices t
 hat will help professionals avoid ECCCNYS compliance-related objections/de
 lays that impact project timelines.
X-WR-RELCALID:924cb14c892cc02528aa0d5a9b0d2d8c
X-WR-TIMEZONE:America/New_York
BEGIN:VTIMEZONE
TZID:America/New_York
BEGIN:STANDARD
TZNAME:EST
DTSTART:20221106T020000
TZOFFSETFROM:-0400
TZOFFSETTO:-0500
RDATE:20231105T020000
END:STANDARD
BEGIN:DAYLIGHT
TZNAME:EDT
DTSTART:20220313T020000
TZOFFSETFROM:-0500
TZOFFSETTO:-0400
RDATE:20230312T020000
RDATE:20240310T020000
END:DAYLIGHT
END:VTIMEZONE
BEGIN:VEVENT
UID:ac9e6d57-ef73-4473-b219-6620980f746c
DTSTAMP:20260423T215244Z
DESCRIPTION:Crushing the Code NYS: Residential is an Urban Green Council on
 line course that prepares building and design professionals in New York St
 ate to: 1) comply with the many requirements in the 2020 Energy Conservati
 on Construction Code (ECCCNYS) and 2) by understanding ECCCNYS compliance 
 requirements\, design more energy-efficient buildings.  \n\nIn an era of m
 ore stringent code enforcement\, this course will also provide critical kn
 owledge about significant changes\, new provisions\, and best practices th
 at will help professionals avoid ECCCNYS compliance-related objections/del
 ays that impact project timelines.
DTSTART;TZID=America/New_York:20230209T090000
DTEND;TZID=America/New_York:20230209T170000
LOCATION:
SUMMARY:Crushing the Code NY State: Residential
END:VEVENT
END:VCALENDAR
