BEGIN:VCALENDAR
VERSION:2.0
PRODID:-//3qinnovation.org//NONSGML kigkonsult.se iCalcreator 2.30.10//
CALSCALE:GREGORIAN
METHOD:PUBLISH
UID:a2d6f026-35e9-4820-acb6-729b083804c5
X-WR-CALDESC:Within the building industry\, low-carbon and energy-efficient
  construction will play a critical role in meeting increasingly stringent 
 local and national building performance goals. For successful implementati
 on\, these projects will require an understanding of new technologies\, pr
 ocesses\, and improved coordination across disciplines.\n\nUrban Green Cou
 ncil is offering a new course - GPRO: Construction Management - in order t
 o provide building industry practitioners with sustainability best practic
 es and actionable strategies for every phase of construction they particip
 ate in\, as well as techniques to avoid common mistakes.\n\nCourse partici
 pants will receive one day of in-class training (in person or virtually) a
 nd then must complete three online GRPO: Construction Management electives
  (most relevant to their work) in order to successfully finish the program
 .\n\nThis course is ideal for: construction managers\, general contractors
 \, experienced tradespersons\, trade forepersons\, owner's representatives
 \, project managers/site superintendents\, estimators\, and students or ot
 hers interested in the building and construction industry.
X-WR-RELCALID:a2bda4970207bf727559092c31e209d7
X-WR-TIMEZONE:America/New_York
BEGIN:VTIMEZONE
TZID:America/New_York
BEGIN:STANDARD
TZNAME:EST
DTSTART:20221106T020000
TZOFFSETFROM:-0400
TZOFFSETTO:-0500
RDATE:20231105T020000
END:STANDARD
BEGIN:DAYLIGHT
TZNAME:EDT
DTSTART:20220313T020000
TZOFFSETFROM:-0500
TZOFFSETTO:-0400
RDATE:20230312T020000
RDATE:20240310T020000
END:DAYLIGHT
END:VTIMEZONE
BEGIN:VEVENT
UID:3ad97494-876a-4593-b05c-a3868f727ecc
DTSTAMP:20260423T215003Z
DESCRIPTION:Within the building industry\, low-carbon and energy-efficient 
 construction will play a critical role in meeting increasingly stringent l
 ocal and national building performance goals. For successful implementatio
 n\, these projects will require an understanding of new technologies\, pro
 cesses\, and improved coordination across disciplines.\n\nUrban Green Coun
 cil is offering a new course - GPRO: Construction Management - in order to
  provide building industry practitioners with sustainability best practice
 s and actionable strategies for every phase of construction they participa
 te in\, as well as techniques to avoid common mistakes.\n\nCourse particip
 ants will receive one day of in-class training (in person or virtually) an
 d then must complete three online GRPO: Construction Management electives 
 (most relevant to their work) in order to successfully finish the program.
 \n\nThis course is ideal for: construction managers\, general contractors\
 , experienced tradespersons\, trade forepersons\, owner's representatives\
 , project managers/site superintendents\, estimators\, and students or oth
 ers interested in the building and construction industry.
DTSTART;TZID=America/New_York:20230207T090000
DTEND;TZID=America/New_York:20230207T170000
LOCATION:
SUMMARY:GPRO: Construction Management
END:VEVENT
END:VCALENDAR
