BEGIN:VCALENDAR
VERSION:2.0
PRODID:-//3qinnovation.org//NONSGML kigkonsult.se iCalcreator 2.30.10//
CALSCALE:GREGORIAN
METHOD:PUBLISH
UID:9df626be-4545-49a0-8ecb-654b8372b977
X-WR-CALDESC:NESEA plans to launch a new program\, BuildingEnergy Access\, 
 specifically designed to better support the work of traditionally underrep
 resented groups in the AEC industry and related fields.  On February 6\, N
 ESEA will be holding the first in a series of conversations with members o
 f the community who come from historically marginalized groups\, and who w
 ould like to get more from NESEA’s resources and programming.
X-WR-RELCALID:bf59c9a8016ba7329fb2259354b236e2
X-WR-TIMEZONE:America/New_York
BEGIN:VTIMEZONE
TZID:America/New_York
BEGIN:STANDARD
TZNAME:EST
DTSTART:20221106T020000
TZOFFSETFROM:-0400
TZOFFSETTO:-0500
RDATE:20231105T020000
END:STANDARD
BEGIN:DAYLIGHT
TZNAME:EDT
DTSTART:20220313T020000
TZOFFSETFROM:-0500
TZOFFSETTO:-0400
RDATE:20230312T020000
RDATE:20240310T020000
END:DAYLIGHT
END:VTIMEZONE
BEGIN:VEVENT
UID:25fbbb18-f4f0-4fc0-928e-b67efb6a6fe2
DTSTAMP:20260423T215238Z
DESCRIPTION:NESEA plans to launch a new program\, BuildingEnergy Access\, s
 pecifically designed to better support the work of traditionally underrepr
 esented groups in the AEC industry and related fields.  On February 6\, NE
 SEA will be holding the first in a series of conversations with members of
  the community who come from historically marginalized groups\, and who wo
 uld like to get more from NESEA’s resources and programming.
DTSTART;TZID=America/New_York:20230206T120000
DTEND;TZID=America/New_York:20230206T133000
LOCATION:
SUMMARY:BuildingEnergy Access: How Can NESEA Support MWBEs
END:VEVENT
END:VCALENDAR
