BEGIN:VCALENDAR
VERSION:2.0
PRODID:-//3qinnovation.org//NONSGML kigkonsult.se iCalcreator 2.30.10//
CALSCALE:GREGORIAN
METHOD:PUBLISH
UID:755dad45-825c-4c5b-b741-c36cddcab143
X-WR-CALDESC:BuildingEnergy NYC is scheduled to take place on October 12\, 
 2023.  The event is designed by and for practitioners in the fields of hig
 h-performance building and design\, energy efficiency\, and renewable ener
 gy.  Share your vision and help shape the October 12th  event by attending
  NESEA's Open Planning Meeting on January 24th\, 2023.  \n\nThe planning m
 eeting is free and open to all .
X-WR-RELCALID:01ee1156f6980ff50ec58ae4826e66eb
X-WR-TIMEZONE:America/New_York
BEGIN:VTIMEZONE
TZID:America/New_York
BEGIN:STANDARD
TZNAME:EST
DTSTART:20221106T020000
TZOFFSETFROM:-0400
TZOFFSETTO:-0500
RDATE:20231105T020000
END:STANDARD
BEGIN:DAYLIGHT
TZNAME:EDT
DTSTART:20220313T020000
TZOFFSETFROM:-0500
TZOFFSETTO:-0400
RDATE:20230312T020000
RDATE:20240310T020000
END:DAYLIGHT
END:VTIMEZONE
BEGIN:VEVENT
UID:1847954c-f279-4ae6-8a76-517c05426674
DTSTAMP:20260423T233432Z
DESCRIPTION:BuildingEnergy NYC is scheduled to take place on October 12\, 2
 023.  The event is designed by and for practitioners in the fields of high
 -performance building and design\, energy efficiency\, and renewable energ
 y.  Share your vision and help shape the October 12th  event by attending 
 NESEA's Open Planning Meeting on January 24th\, 2023.  \n\nThe planning me
 eting is free and open to all .
DTSTART;TZID=America/New_York:20230124T160000
DTEND;TZID=America/New_York:20230124T173000
LOCATION:
SUMMARY:BuildingEnergy NYC Open Planning Meeting
END:VEVENT
END:VCALENDAR
